BEGIN:VCALENDAR
BEGIN:VEVENT
SUMMARY:Talujon plays music by Victoria Cheah [nycnoise]
DTSTART:20260426T210000Z
DTEND:20260426T220000Z
UID:7126e180-3612-4b1d-8967-0dba9c8095c2
CREATED:20260425T091801Z
DESCRIPTION:Talujon: percussionists Ian Antonio\, Caitlin Cawley\, David C
 ossin\, Matthew Gold\, Tom Kolor\, Michael Lipsey\, Matt Ward
LOCATION:zürcher gallery (33 bleecker st.\, manhattan)
END:VEVENT
END:VCALENDAR
