BEGIN:VCALENDAR
BEGIN:VEVENT
SUMMARY:Talkdemonic\, Vandiver [nycnoise]
DTSTART:20260410T003000Z
DTEND:20260410T013000Z
UID:2ccb348e-7114-4ec1-8777-4ab77bf590e8
CREATED:20260425T110955Z
DESCRIPTION:
LOCATION:wonderville (1186 broadway\, brooklyn)
END:VEVENT
END:VCALENDAR
