BEGIN:VCALENDAR
BEGIN:VEVENT
SUMMARY:Ok Cuddle\, Welwyn\, Adult Human Females [nycnoise]
DTSTART:20260421T230000Z
DTEND:20260422T000000Z
UID:94666206-0292-46e1-8c50-5d7ca0e26e84
CREATED:20260425T110919Z
DESCRIPTION:
LOCATION:wonderville (1186 broadway\, brooklyn)
END:VEVENT
END:VCALENDAR
