BEGIN:VCALENDAR
BEGIN:VEVENT
SUMMARY:FourOneOne presents: Geechee Reclamation (Melvin Gibbs\, Leslie Pa
 rker\, Ben LaMar Gay\, Paul Wilson Bae\, Warren “Trae” Crudup III) [ny
 cnoise]
DTSTART:20260418T000000Z
DTEND:20260418T010000Z
UID:58402229-8e0c-4a1b-8d1a-d39827768e73
CREATED:20260425T110954Z
DESCRIPTION:7pm doors\; part of residency + series for new Gibbs book&nbsp
 \;How Black Music Took Over The World\, incl. free talk on&nbsp\;4/15
LOCATION:public records (233 butler st.\, brooklyn)
END:VEVENT
END:VCALENDAR
