BEGIN:VCALENDAR
BEGIN:VEVENT
SUMMARY:New Ear presents: marion spencer\, Glenn Potter-Takata (w/ Akane L
 ittle\, Shamar Watt\, evan ray suzuki) [nycnoise]
DTSTART:20260503T230000Z
DTEND:20260504T000000Z
UID:913b6e38-45f8-4742-9e6e-8c9789b771d7
CREATED:20260425T110919Z
DESCRIPTION:6:30pm doors\; ms w/ "Stacy Lynn Smith\, Shannon Yu\, Vicky Sh
 ick\, EmmaGrace Skove-Epes\, with Mor Mendel &amp\; Nora Alami in spirit. 
 Sound design by Shamar Watt."
LOCATION:fridman gallery (169 bowery\, manhattan)
END:VEVENT
END:VCALENDAR
