BEGIN:VCALENDAR
BEGIN:VEVENT
SUMMARY:Sustain-Release Nonstop: Aurora Halal\, Dustin Zahn\, Maara\, Mata
 s\, Naone\, Zeynep + more [nycnoise]
DTSTART:20260405T040100Z
DTEND:20260405T050100Z
UID:b66ff1d9-7c79-4663-b28b-a23f68475da2
CREATED:20260425T111027Z
DESCRIPTION:
LOCATION:nowadays (56-06 cooper ave\, ridgewood)
END:VEVENT
END:VCALENDAR
