BEGIN:VCALENDAR
BEGIN:VEVENT
SUMMARY:Dekmantel Nonstop: Detroit In Effect\, Eris Drew\, Octo Octa\, Plo
 y\, RHR\, Shyboi\, Verraco\, & more [nycnoise]
DTSTART:20260426T020000Z
DTEND:20260426T030000Z
UID:a4a22a61-d770-459a-82a1-4e3e7e6e9342
CREATED:20260425T110627Z
DESCRIPTION:click thru re: pre-12am discount
LOCATION:nowadays (56-06 cooper ave\, ridgewood)
END:VEVENT
END:VCALENDAR
