BEGIN:VCALENDAR
BEGIN:VEVENT
SUMMARY:Dekmantel Nonstop: Detroit In Effect\, Eris Drew\, Octo Octa\, Plo
 y\, RHR\, Shyboi\, Verraco\, & more [nycnoise]
DTSTART:20260426T040100Z
DTEND:20260426T050100Z
UID:831d2db3-e31c-4fad-96d2-4004a47514b0
CREATED:20260425T091424Z
DESCRIPTION:
LOCATION:nowadays (56-06 cooper ave\, ridgewood)
END:VEVENT
END:VCALENDAR
