BEGIN:VCALENDAR
BEGIN:VEVENT
SUMMARY:Big Saldo's Chunkers: Eddie Fowlkes\, Ian Crane b2b Meilgaarden\, 
 Sally C [nycnoise]
DTSTART:20260411T020000Z
DTEND:20260411T030000Z
UID:12151c4a-2371-489a-9e1c-34435e327269
CREATED:20260425T110832Z
DESCRIPTION:click thru re: pre-12am discount
LOCATION:nowadays (56-06 cooper ave\, ridgewood)
END:VEVENT
END:VCALENDAR
