BEGIN:VCALENDAR
BEGIN:VEVENT
SUMMARY:Theo Parrish All Night [nycnoise]
DTSTART:20260418T020000Z
DTEND:20260418T030000Z
UID:e9012826-0f38-443f-a785-697f3c7d78ca
CREATED:20260425T110816Z
DESCRIPTION:
LOCATION:nowadays (56-06 cooper ave\, ridgewood)
END:VEVENT
END:VCALENDAR
