BEGIN:VCALENDAR
BEGIN:VEVENT
SUMMARY:Ana Roxanne [nycnoise]
DTSTART:20260509T000000Z
DTEND:20260509T010000Z
UID:a0c1a831-a6c5-4e20-b39d-44556705e2eb
CREATED:20260420T045827Z
DESCRIPTION:
LOCATION:national sawdust (80 n. 6th st.\, brooklyn)
END:VEVENT
END:VCALENDAR
