BEGIN:VCALENDAR
BEGIN:VEVENT
SUMMARY:Bush Tetras\, Dead Tooth\, DJ Sydney Salk [nycnoise]
DTSTART:20260508T233000Z
DTEND:20260509T003000Z
UID:4e312b96-c967-407d-bbd8-ac1352c04fe7
CREATED:20260420T045827Z
DESCRIPTION:6:30pm doors
LOCATION:le poisson rouge (lpr) (158 bleecker st.\, manhattan)
END:VEVENT
END:VCALENDAR
