BEGIN:VCALENDAR
BEGIN:VEVENT
SUMMARY:Even Twice\, Bad Cable\, Mimsey Mack [nycnoise]
DTSTART:20260514T230000Z
DTEND:20260515T000000Z
UID:7a2cef56-9916-488e-b017-a46f0a78a8e3
CREATED:20260424T094904Z
DESCRIPTION:
LOCATION:mama tried (787 3rd ave\, brooklyn)
END:VEVENT
END:VCALENDAR
