BEGIN:VCALENDAR
BEGIN:VEVENT
SUMMARY:DromeDary Records Showcase: Doug Gillard\, Cathedral Ceilings\, Gu
 yscrapers [nycnoise]
DTSTART:20260523T200000Z
DTEND:20260523T210000Z
UID:8cd4fca5-4a44-46fc-95ad-4d54b00e1069
CREATED:20260425T105939Z
DESCRIPTION:
LOCATION:mama tried (787 3rd ave\, brooklyn)
END:VEVENT
END:VCALENDAR
