BEGIN:VCALENDAR
BEGIN:VEVENT
SUMMARY:Bent Light\, The Early\, Kid Millions & Sarah Bernstein [nycnoise]
DTSTART:20260528T230000Z
DTEND:20260529T000000Z
UID:c5d462af-abe5-4678-9869-2e7325c7ce39
CREATED:20260425T105938Z
DESCRIPTION:
LOCATION:mama tried (787 3rd ave\, brooklyn)
END:VEVENT
END:VCALENDAR
