BEGIN:VCALENDAR
BEGIN:VEVENT
SUMMARY:Skirting (Vinyl Release)\, Nervous\, Gladys\, DJ Sueproblema [nycn
 oise]
DTSTART:20260607T200000Z
DTEND:20260607T210000Z
UID:93985d85-fd99-49db-b8d7-54857218203b
CREATED:20260425T123752Z
DESCRIPTION:skirting album on bandcamp
LOCATION:mama tried (787 3rd ave\, brooklyn)
END:VEVENT
END:VCALENDAR
