BEGIN:VCALENDAR
BEGIN:VEVENT
SUMMARY:Heads Happenings: TBA [nycnoise]
DTSTART:20260611T230000Z
DTEND:20260612T000000Z
UID:0ffdaf0d-cf41-4e69-b2df-50c930db77cc
CREATED:20260425T123752Z
DESCRIPTION:lineup asap
LOCATION:mama tried (787 3rd ave\, brooklyn)
END:VEVENT
END:VCALENDAR
