BEGIN:VCALENDAR
BEGIN:VEVENT
SUMMARY:Beth Kaplan\, Chris Brokaw\, Franklin Bruno\, Curhachestra\, Milo 
 Jones [nycnoise]
DTSTART:20260614T200000Z
DTEND:20260614T210000Z
UID:ac60452a-8963-4489-9332-2e549533b679
CREATED:20260425T123725Z
DESCRIPTION:confirming lineup asap
LOCATION:mama tried (787 3rd ave\, brooklyn)
END:VEVENT
END:VCALENDAR
