BEGIN:VCALENDAR
BEGIN:VEVENT
SUMMARY:Neptune\, icky bits\, Sinead Youth (Clara Latham\, Dan Friel\, Pet
 er Kerlin)\, Opening Bell [nycnoise]
DTSTART:20260618T230000Z
DTEND:20260619T000000Z
UID:115636c7-a512-46f6-985e-8fe86a14c642
CREATED:20260425T123638Z
DESCRIPTION:
LOCATION:mama tried (787 3rd ave\, brooklyn)
END:VEVENT
END:VCALENDAR
