BEGIN:VCALENDAR
BEGIN:VEVENT
SUMMARY:Dot Dash Presents: TBA [nycnoise]
DTSTART:20260620T200000Z
DTEND:20260620T210000Z
UID:a23f0f56-af32-4758-8ee7-c1037dcee532
CREATED:20260425T123602Z
DESCRIPTION:lineup asap
LOCATION:mama tried (787 3rd ave\, brooklyn)
END:VEVENT
END:VCALENDAR
