BEGIN:VCALENDAR
BEGIN:VEVENT
SUMMARY:Radical Reversal (Randall Horton\, Melanie Dyer\, Amma Islam \, Wa
 rren Trae Crudup\, Devin Waldman\, Brendan Regan) [nycnoise]
DTSTART:20260429T204000Z
DTEND:20260429T214000Z
UID:9110967b-c46e-4cb8-a80a-738867ae59f1
CREATED:20260425T231612Z
DESCRIPTION:"poetry\, jazz\, &amp\; avant-garde experimentation"
LOCATION:soapbox gallery (636 dean st.\, brooklyn)
END:VEVENT
END:VCALENDAR
