BEGIN:VCALENDAR
BEGIN:VEVENT
SUMMARY:Octonomy: 'Atavistic Echoes\, Primal Fear Response' [nycnoise]
DTSTART:20260514T233000Z
DTEND:20260515T003000Z
UID:e99cc4bc-c36a-4be3-9caa-d09870f6d9cd
CREATED:20260424T095012Z
DESCRIPTION:unofficial release for new octonomy LP on bandcamp
LOCATION:reforesters laboratory (147 Metropolitan Ave\, Brooklyn\, NY 1124
 9)
END:VEVENT
END:VCALENDAR
