BEGIN:VCALENDAR
BEGIN:VEVENT
SUMMARY:Max Jaffe "You Want That Too!" Live\, Tsons of Tsunami [nycnoise]
DTSTART:20260411T230000Z
DTEND:20260412T000000Z
UID:9858f808-71a1-49c2-916d-0a8bb32e6577
CREATED:20260425T105851Z
DESCRIPTION:
LOCATION:public records (233 butler st.\, brooklyn)
END:VEVENT
END:VCALENDAR
