BEGIN:VCALENDAR
BEGIN:VEVENT
SUMMARY:Already Late\, So Over It\, Frida Kill [nycnoise]
DTSTART:20260515T000000Z
DTEND:20260515T010000Z
UID:151f3731-9a28-4c73-ae80-70adce4a730f
CREATED:20260424T094833Z
DESCRIPTION:7:30pm doors
LOCATION:hart bar (538 hart st.\, brooklyn)
END:VEVENT
END:VCALENDAR
