BEGIN:VCALENDAR
BEGIN:VEVENT
SUMMARY:Fun Time Festival: AudioStar\, Kablamo\, Theophobia\, Fish Hunt\, 
 Cult Goddess\, Frankie Sunswept\, Pluto\, Kama Sutra Xmas Club [nycnoise]
DTSTART:20260425T230000Z
DTEND:20260426T000000Z
UID:cf862c54-751e-4429-a081-3d8e15bf9f91
CREATED:20260423T054621Z
DESCRIPTION:
LOCATION:empire stage (229 Empire Blvd\, Brooklyn\, NY 11225)
END:VEVENT
END:VCALENDAR
