BEGIN:VCALENDAR
BEGIN:VEVENT
SUMMARY:Nice Try\, Kid #29: Dawoud Kringle & Rob Heath [nycnoise]
DTSTART:20260428T000000Z
DTEND:20260428T010000Z
UID:bc972e3d-6229-49e1-8fee-4bf34e1f4735
CREATED:20260425T231418Z
DESCRIPTION:"experimental &amp\; improvisational"
LOCATION:troost (1011 manhattan ave\, brooklyn)
END:VEVENT
END:VCALENDAR
