BEGIN:VCALENDAR
BEGIN:VEVENT
SUMMARY:Tony Maimone / Jeff Berner / Rob Heath [nycnoise]
DTSTART:20260429T000000Z
DTEND:20260429T010000Z
UID:8eec6aa7-36cb-48da-93ec-caed6845e01b
CREATED:20260425T231750Z
DESCRIPTION:
LOCATION:troost (1011 manhattan ave\, brooklyn)
END:VEVENT
END:VCALENDAR
