BEGIN:VCALENDAR
BEGIN:VEVENT
SUMMARY:Benefit for ABC No Rio: Regula Unintentional\, Isolation Exercise\
 , Z.Z.Z.Z.\, Surf Hair [nycnoise]
DTSTART:20260509T230000Z
DTEND:20260510T000000Z
UID:aa116fb4-3983-4dd5-90c8-6f200baa879f
CREATED:20260424T225458Z
DESCRIPTION:abc donation link asap (sorry im updating on train lol)
LOCATION:fringe records (656 Woodward Ave\, Ridgewood\, NY 11385)
END:VEVENT
END:VCALENDAR
