BEGIN:VCALENDAR
BEGIN:VEVENT
SUMMARY:Chris Pitsiokos\, Ben Bennett [nycnoise]
DTSTART:20260429T233000Z
DTEND:20260430T003000Z
UID:4370a18e-4991-4173-9e40-6647ba6c3891
CREATED:20260423T054647Z
DESCRIPTION:full info asap
LOCATION:record shop (360 van brunt st.\, brooklyn)
END:VEVENT
END:VCALENDAR
