BEGIN:VCALENDAR
BEGIN:VEVENT
SUMMARY:Max Nordile\, Karol Konstancia\, 973 Future Yook\, HERE [nycnoise]
DTSTART:20260429T230000Z
DTEND:20260430T000000Z
UID:8ac6ff57-9f3d-4977-bb91-b4ea2368fd42
CREATED:20260425T231510Z
DESCRIPTION:973FY: Austin Sley Julian\, Quetzal\, Sim
LOCATION:selva (1329 Willoughby Ave Suite 121\, Brooklyn\, NY 11237\, Unit
 ed States)
END:VEVENT
END:VCALENDAR
