BEGIN:VCALENDAR
BEGIN:VEVENT
SUMMARY:Traveling Artists in Times of War: Sound Performances by Keiko Uen
 ishi\, Katherine Liberovskaya\, Hraïr Hratchian\, Gabrielle Couillard\, Z
 azalie Z.\, Soledad Coyoli [nycnoise]
DTSTART:20260502T000000Z
DTEND:20260502T010000Z
UID:a03691a9-3556-45c1-b15c-1e43a7e7ce41
CREATED:20260425T231549Z
DESCRIPTION:5pm-7pm free roundtable discussion w/ artists
LOCATION:grace exhibition space (182 ave c\, manhattan)
END:VEVENT
END:VCALENDAR
