BEGIN:VCALENDAR
BEGIN:VEVENT
SUMMARY:Collective Scream x Eel Pit present A Climate Justice Benefit: Lum
 berob\, Blanket Approval\, Outer Shapes\, Arlo Indigo [nycnoise]
DTSTART:20260424T223000Z
DTEND:20260424T233000Z
UID:21a8dc8b-147b-48a6-b8f8-76f17e0dc0a5
CREATED:20260424T225616Z
DESCRIPTION:"proceeds donated to local organizations Gowanus Dredgers &amp
 \; UPROSE"
LOCATION:gowanus dredgers boathouse (165 2nd St\, Brooklyn\, NY 11231)
END:VEVENT
END:VCALENDAR
