BEGIN:VCALENDAR
BEGIN:VEVENT
SUMMARY:Mark Crozer (Record Release)\, Mirror Tapes\, DJ Kyp Malone\, DJ N
 ightlight [nycnoise]
DTSTART:20260425T233000Z
DTEND:20260426T003000Z
UID:185adf21-5562-451a-825d-c43a002028e7
CREATED:20260424T225616Z
DESCRIPTION:7pm doors
LOCATION:francis kite club (40 loisaida ave\, manhattan)
END:VEVENT
END:VCALENDAR
