BEGIN:VCALENDAR
BEGIN:VEVENT
SUMMARY:Audrey Chen\, C. Spencer Yeh\, Alex Zhang Hungtai\, Che Chen\, Gra
 ce Villamil\, Andrew Yong Hoon Lee [nycnoise]
DTSTART:20260425T230000Z
DTEND:20260426T000000Z
UID:c2402be2-d529-4ec3-9662-702bc91ff083
CREATED:20260424T225514Z
DESCRIPTION:6pm doors\; 2 sets\, mixed groupings // support P.I.T.! for $5
 /month u get a Josh MacPhee-designed membership card :') $10 tier includes
  macphee card &amp\; ~gift\,~ &amp\; for $25/month also "one-off screen-pr
 inted P.I.T. hoodie"
LOCATION:p.i.t. (property is theft) (411 s. 5th st.\, brooklyn)
END:VEVENT
END:VCALENDAR
