BEGIN:VCALENDAR
BEGIN:VEVENT
SUMMARY:ABC NO RIO Benefit: Telomeres\, Ivy & The Poison\, Andrew’s Fals
 e Consciousness\, Nussy Andrews [nycnoise]
DTSTART:20260516T223000Z
DTEND:20260516T233000Z
UID:ad89632a-0089-44c8-b047-b059b1f5484b
CREATED:20260425T105850Z
DESCRIPTION:raising funds for ABC No Rio
LOCATION:p.i.t. (property is theft) (411 s. 5th st.\, brooklyn)
END:VEVENT
END:VCALENDAR
