BEGIN:VCALENDAR
BEGIN:VEVENT
SUMMARY:P.I.T. Benefit: Kortex\, Cool Whip\, Xullah [nycnoise]
DTSTART:20260523T220000Z
DTEND:20260523T230000Z
UID:ace9800f-d9e4-4151-87e7-bdbb76b31fde
CREATED:20260425T105853Z
DESCRIPTION:raising funds for Property Is Theft! become a member\; for $5/
 month u get a Josh MacPhee-designed membership card :') $10 tier includes 
 macphee card &amp\; ~gift\,~ &amp\; for $25/month also "one-off screen-pri
 nted P.I.T. hoodie"
LOCATION:p.i.t. (property is theft) (411 s. 5th st.\, brooklyn)
END:VEVENT
END:VCALENDAR
