BEGIN:VCALENDAR
BEGIN:VEVENT
SUMMARY:Anti-ICE Free Jazz Fundraiser: TBA [nycnoise]
DTSTART:20260529T220000Z
DTEND:20260529T230000Z
UID:79fb649c-dab6-49b4-8c53-48c04721b603
CREATED:20260425T105851Z
DESCRIPTION:details asap
LOCATION:p.i.t. (property is theft) (411 s. 5th st.\, brooklyn)
END:VEVENT
END:VCALENDAR
