BEGIN:VCALENDAR
BEGIN:VEVENT
SUMMARY:Liberazione Fundraising Party: DJ Eugene Hütz\, SPF 50 b2b Nema\,
  OTO\, G-Style\, Vitto [nycnoise]
DTSTART:20260426T020000Z
DTEND:20260426T030000Z
UID:14c7e021-7115-4d51-9b88-2c3deeb94756
CREATED:20260424T225601Z
DESCRIPTION:raising money for Make the Road New York
LOCATION:starr bar (214 starr st.\, brooklyn)
END:VEVENT
END:VCALENDAR
