BEGIN:VCALENDAR
BEGIN:VEVENT
SUMMARY:Josh da Costa\, Ryley Walker\, Motheggs\, Drugdealer DJs [nycnoise
 ]
DTSTART:20260503T023000Z
DTEND:20260503T033000Z
UID:e11250fc-5453-4f71-9a2b-575778dcbac2
CREATED:20260424T225459Z
DESCRIPTION:
LOCATION:night club 101 (101 avenue a\, manhattan)
END:VEVENT
END:VCALENDAR
