BEGIN:VCALENDAR
BEGIN:VEVENT
SUMMARY:Kolb (Record Release)\, Peaer\, Stice [nycnoise]
DTSTART:20260518T020000Z
DTEND:20260518T030000Z
UID:571a989f-dd92-4142-a2b7-e684097778e1
CREATED:20260425T105852Z
DESCRIPTION:new kolb on bandcamp
LOCATION:night club 101 (101 avenue a\, manhattan)
END:VEVENT
END:VCALENDAR
