BEGIN:VCALENDAR
BEGIN:VEVENT
SUMMARY:Wiring\, Them Airs\, Microgoblet\, Michael Eliran [nycnoise]
DTSTART:20260427T000000Z
DTEND:20260427T010000Z
UID:743438e7-21ef-45a2-a972-a9aa26734fec
CREATED:20260424T225735Z
DESCRIPTION:
LOCATION:mudhouse
END:VEVENT
END:VCALENDAR
