BEGIN:VCALENDAR
BEGIN:VEVENT
SUMMARY:Computer Music Meet Up [nycnoise]
DTSTART:20260424T220000Z
DTEND:20260424T230000Z
UID:6bcb80df-036e-4cb4-81cd-5413590f16af
CREATED:20260424T225632Z
DESCRIPTION:"Hosted by Andy Borsz &amp\; Jessica Garson Beauchemin"
LOCATION:fringe records (656 Woodward Ave\, Ridgewood\, NY 11385)
END:VEVENT
END:VCALENDAR
