BEGIN:VCALENDAR
BEGIN:VEVENT
SUMMARY:Display Distribute: Pick of the Day [nycnoise]
DTSTART:20260513T230000Z
DTEND:20260514T000000Z
UID:3af0357d-cd4e-4675-8251-a2daf379a4ca
CREATED:20260425T231510Z
DESCRIPTION:"a thematic inquiry\, distribution service ... "formulated as 
 relayed plays with commerce ...&nbsp\;stations from Bungee Space\, Canal S
 treet Research Association\, Fei Liu\, &amp\; Jen Liu ... please bring you
 r unwanted pennies to begin the exchange"
LOCATION:amant géza (306 Maujer St\, Brooklyn\, NY 11206)
END:VEVENT
END:VCALENDAR
