BEGIN:VCALENDAR
BEGIN:VEVENT
SUMMARY:William Parker's Lil Huey's Pocket Watch [nycnoise]
DTSTART:20240411T233000Z
DTEND:20240412T003000Z
UID:01a47b1f-7fa3-4a59-9450-db0f45cc09dc
CREATED:20260419T090445Z
DESCRIPTION:7pm doors\; artists incl. Devin Brahja Waldman\, Rob Brown\, I
 saiah Barr\, Alfredo Col&oacute\;n\, Dave Sewelson\, Diego Hedez\, Masahik
 o Kono\, Colin Babcock\, Aakash Mittal\, Colson Jimenez\, Hans Young Binte
 r\, Juan Pablo Carletti\, Ellen Christi\, Patricia Nicholson\, Kyoko Kitam
 ura
LOCATION:nublu classic (62 Loisaida Ave\, New York\, NY 10009)
END:VEVENT
END:VCALENDAR
