BEGIN:VCALENDAR
BEGIN:VEVENT
SUMMARY:Ka Baird (Album Release\; ft. Henry Fraser\, Chris Williams\, Joan
 na Mattrey\, gabby fluke-mogul) [nycnoise]
DTSTART:20240405T000000Z
DTEND:20240405T010000Z
UID:d9172f18-7e9e-43fc-9a51-b3a9f454c99f
CREATED:20260421T050236Z
DESCRIPTION:7pm doors\; livestream
LOCATION:roulette (509 atlantic ave\, brooklyn)
END:VEVENT
END:VCALENDAR
