BEGIN:VCALENDAR
BEGIN:VEVENT
SUMMARY:Uptown For Palestine: Cease Fire Now: Monday Vigil [nycnoise]
DTSTART:20240318T203000Z
DTEND:20240318T213000Z
UID:54da6dcb-c485-4403-990d-960890a6efc5
CREATED:20260419T090445Z
DESCRIPTION:"Every week until a permanent ceasefire."
LOCATION:adriano espaillat's office
END:VEVENT
END:VCALENDAR
