BEGIN:VCALENDAR
BEGIN:VEVENT
SUMMARY:Josh Mastel & Nico Cadena\, Ross Wightman\, Cryptwarbler\, Dani Do
 bkin & Matt Sargent [nycnoise]
DTSTART:20240331T000000Z
DTEND:20240331T010000Z
UID:96166a93-bf08-4b99-ae10-dc01750a837a
CREATED:20260419T090603Z
DESCRIPTION:7pm doors\; flyer's here
LOCATION:cutelab
END:VEVENT
END:VCALENDAR
