BEGIN:VCALENDAR
BEGIN:VEVENT
SUMMARY:Controlled Chaotic 4: Kalun Leung\, Trevor Van de Velde\, Selendis
  Sebastian Alexander Johnson & Shinya Lin [nycnoise]
DTSTART:20240420T000000Z
DTEND:20240420T010000Z
UID:5efd87ce-c664-4cd8-844c-72915ffb8f9e
CREATED:20260421T050238Z
DESCRIPTION:7:30pm doors\; Leung: "live premiere of his solo augmented tro
 mbone project" (kalun's a weirdo!!)
LOCATION:ki smith gallery (170 Forsyth St\, New York\, NY 10002)
END:VEVENT
END:VCALENDAR
