BEGIN:VCALENDAR
BEGIN:VEVENT
SUMMARY:First Saturdays [nycnoise]
DTSTART:20240406T210000Z
DTEND:20240406T220000Z
UID:ba920a27-f14d-49eb-a7d6-8c1657c37501
CREATED:20260421T050236Z
DESCRIPTION:Los Aliens\, Jive Poetic &amp\; Rico Frederick\, Legacy
LOCATION:brooklyn museum (200 eastern parkway\, brooklyn)
END:VEVENT
END:VCALENDAR
