BEGIN:VCALENDAR
BEGIN:VEVENT
SUMMARY:‘H4X0R5’ premiere:: Videopunks live remixes & rescores HACKERS
  [nycnoise]
DTSTART:20240412T000000Z
DTEND:20240412T010000Z
UID:fc14a471-851f-4210-a6b3-18cf25d6c944
CREATED:20260421T050237Z
DESCRIPTION:
LOCATION:millennium film workshop (167 Wilson Ave\, Brooklyn\, NY 11237)
END:VEVENT
END:VCALENDAR
